BEGIN:VCALENDAR
VERSION:2.0
PRODID:-//LSVT Global - ECPv6.15.11//NONSGML v1.0//EN
CALSCALE:GREGORIAN
METHOD:PUBLISH
X-WR-CALNAME:LSVT Global
X-ORIGINAL-URL:https://blog.lsvtglobal.com
X-WR-CALDESC:Events for LSVT Global
REFRESH-INTERVAL;VALUE=DURATION:PT1H
X-Robots-Tag:noindex
X-PUBLISHED-TTL:PT1H
BEGIN:VTIMEZONE
TZID:America/New_York
BEGIN:DAYLIGHT
TZOFFSETFROM:-0500
TZOFFSETTO:-0400
TZNAME:EDT
DTSTART:20230312T070000
END:DAYLIGHT
BEGIN:STANDARD
TZOFFSETFROM:-0400
TZOFFSETTO:-0500
TZNAME:EST
DTSTART:20231105T060000
END:STANDARD
BEGIN:DAYLIGHT
TZOFFSETFROM:-0500
TZOFFSETTO:-0400
TZNAME:EDT
DTSTART:20240310T070000
END:DAYLIGHT
BEGIN:STANDARD
TZOFFSETFROM:-0400
TZOFFSETTO:-0500
TZNAME:EST
DTSTART:20241103T060000
END:STANDARD
BEGIN:DAYLIGHT
TZOFFSETFROM:-0500
TZOFFSETTO:-0400
TZNAME:EDT
DTSTART:20250309T070000
END:DAYLIGHT
BEGIN:STANDARD
TZOFFSETFROM:-0400
TZOFFSETTO:-0500
TZNAME:EST
DTSTART:20251102T060000
END:STANDARD
END:VTIMEZONE
BEGIN:VEVENT
DTSTART;TZID=America/New_York:20240422T200000
DTEND;TZID=America/New_York:20240422T210000
DTSTAMP:20260424T014323
CREATED:20240312T224439Z
LAST-MODIFIED:20240313T164151Z
UID:5390-1713816000-1713819600@blog.lsvtglobal.com
SUMMARY:Enhancing Clinic Revenue and Patient Satisfaction through an Effective RTM Program
DESCRIPTION:LSVT BIG® physical and occupational therapy is well-known for its efficacy in addressing movement impairments and improving functional abilities in individuals with Parkinson’s disease and other conditions. The integration of technology such as Remote Therapeutic Monitoring (RTM) opens up new avenues for therapists to extend their reach and provide ongoing support to patients beyond traditional in-person sessions. \nJoin Matthew Jurek\, DPT\, CSCS\, Wibbi’s RTM specialist to learn how to implement an RTM program that will: \n\nEnhance clinic efficiency and revenue\nOptimize outcomes for patients with Parkinson’s disease and other chronic conditions\nEnhance patient engagement through ongoing communication\, monitoring\, and support after they complete LSVT BIG treatment or other intervention\nPersonalize your care plans – improve your patients’ long-term adherence to their home exercise program and adjust treatment plans in real-time\nProvide patient data to empower more informed decision-making and goal setting\n\nAs an expert in the use of RTM in physical therapy\, Matthew will share practical strategies illustrating the successful integration of RTM into therapy practices. Moreover\, attendees will have the opportunity to engage in an interactive Q&A session\, gaining further clarity on how to implement RTM effectively in their clinical settings. \nWhether you are certified in LSVT BIG or not\, don’t miss this chance to stay at the forefront of innovation and discover how Remote Therapeutic Monitoring can empower you to make a lasting impact on the lives of individuals with Parkinson’s disease and other chronic conditions. \nIntended Audience: Allied health professionals
URL:https://blog.lsvtglobal.com/event/enhancing-clinic-revenue-and-patient-satisfaction-through-an-effective-rtm-program/
CATEGORIES:Free Community Webinars
ATTACH;FMTTYPE=image/jpeg:https://blog.lsvtglobal.com/wp-content/uploads/2024/03/Wibbi_RTM-Webinar_04-2024-1.jpg
END:VEVENT
END:VCALENDAR